BEGIN:VCALENDAR
VERSION:2.0
PRODID:-//Booragoon Primary School - ECPv4.6.16//NONSGML v1.0//EN
CALSCALE:GREGORIAN
METHOD:PUBLISH
X-WR-CALNAME:Booragoon Primary School
X-ORIGINAL-URL:https://www.booragoonps.wa.edu.au
X-WR-CALDESC:Events for Booragoon Primary School
BEGIN:VEVENT
DTSTART;TZID=Australia/Perth:20190225T190000
DTEND;TZID=Australia/Perth:20190225T190000
DTSTAMP:20190228T160005
CREATED:20190220T074629Z
LAST-MODIFIED:20190220T074629Z
UID:3494-1551121200-1551121200@www.booragoonps.wa.edu.au
SUMMARY:P&C Meeting
DESCRIPTION:
URL:https://www.booragoonps.wa.edu.au/calendar/pc-meeting-13/
END:VEVENT
BEGIN:VEVENT
DTSTART;TZID=Australia/Perth:20190308T170000
DTEND;TZID=Australia/Perth:20190309T170000
DTSTAMP:20190228T160005
CREATED:20190220T074145Z
LAST-MODIFIED:20190220T074205Z
UID:3490-1552064400-1552150800@www.booragoonps.wa.edu.au
SUMMARY:Dads&Kids Campout
DESCRIPTION:
URL:https://www.booragoonps.wa.edu.au/calendar/dadskids-campout/
END:VEVENT
BEGIN:VEVENT
DTSTART;VALUE=DATE:20190312
DTEND;VALUE=DATE:20190313
DTSTAMP:20190228T160005
CREATED:20190220T074348Z
LAST-MODIFIED:20190220T074410Z
UID:3492-1552348800-1552435199@www.booragoonps.wa.edu.au
SUMMARY:House Swimming Carnival
DESCRIPTION:
URL:https://www.booragoonps.wa.edu.au/calendar/house-swimming-carnival-5/
END:VEVENT
BEGIN:VEVENT
DTSTART;TZID=Australia/Perth:20190312T183000
DTEND;TZID=Australia/Perth:20190312T183000
DTSTAMP:20190228T160005
CREATED:20190222T023014Z
LAST-MODIFIED:20190222T023036Z
UID:3499-1552415400-1552415400@www.booragoonps.wa.edu.au
SUMMARY:School Board Meeting
DESCRIPTION:
URL:https://www.booragoonps.wa.edu.au/calendar/school-board-meeting-7/
END:VEVENT
BEGIN:VEVENT
DTSTART;TZID=Australia/Perth:20190325T190000
DTEND;TZID=Australia/Perth:20190325T190000
DTSTAMP:20190228T160005
CREATED:20190220T074724Z
LAST-MODIFIED:20190220T074741Z
UID:3496-1553540400-1553540400@www.booragoonps.wa.edu.au
SUMMARY:P&C Meeting
DESCRIPTION:
URL:https://www.booragoonps.wa.edu.au/calendar/pc-meeting-14/
END:VEVENT
BEGIN:VEVENT
DTSTART;VALUE=DATE:20190327
DTEND;VALUE=DATE:20190330
DTSTAMP:20190228T160005
CREATED:20190222T023142Z
LAST-MODIFIED:20190222T023207Z
UID:3501-1553644800-1553903999@www.booragoonps.wa.edu.au
SUMMARY:Scholastic Book Fair
DESCRIPTION:
URL:https://www.booragoonps.wa.edu.au/calendar/scholastic-book-fair/
END:VEVENT
END:VCALENDAR